BEGIN:VCALENDAR
VERSION:2.0
PRODID:-//Laura Garland | Shamanic Healing - ECPv6.15.20//NONSGML v1.0//EN
CALSCALE:GREGORIAN
METHOD:PUBLISH
X-ORIGINAL-URL:https://charlestonreikiandtarot.com
X-WR-CALDESC:Events for Laura Garland | Shamanic Healing
REFRESH-INTERVAL;VALUE=DURATION:PT1H
X-Robots-Tag:noindex
X-PUBLISHED-TTL:PT1H
BEGIN:VTIMEZONE
TZID:UTC
BEGIN:STANDARD
TZOFFSETFROM:+0000
TZOFFSETTO:+0000
TZNAME:UTC
DTSTART:20170101T000000
END:STANDARD
END:VTIMEZONE
BEGIN:VEVENT
DTSTART;TZID=UTC:20180919T183000
DTEND;TZID=UTC:20180919T200000
DTSTAMP:20260422T163134
CREATED:20180804T210955Z
LAST-MODIFIED:20180804T210955Z
UID:312-1537381800-1537387200@charlestonreikiandtarot.com
SUMMARY:Intro to Shamanic Journeying
DESCRIPTION:
URL:https://charlestonreikiandtarot.com/event/intro-to-shamanic-journeying/
LOCATION:Charleston Holistic Center\, 2366 Ashley River Rd.\, CHARLESTON\, SC\, 29414\, United States
CATEGORIES:Class,Shamanism
ATTACH;FMTTYPE=image/jpeg:https://charlestonreikiandtarot.com/wp-content/uploads/2018/07/20141025_200453396_iOS-scaled.jpg
END:VEVENT
END:VCALENDAR