BEGIN:VCALENDAR
VERSION:2.0
PRODID:-//Laura Garland | Shamanic Healing - ECPv6.15.20//NONSGML v1.0//EN
CALSCALE:GREGORIAN
METHOD:PUBLISH
X-ORIGINAL-URL:https://charlestonreikiandtarot.com
X-WR-CALDESC:Events for Laura Garland | Shamanic Healing
REFRESH-INTERVAL;VALUE=DURATION:PT1H
X-Robots-Tag:noindex
X-PUBLISHED-TTL:PT1H
BEGIN:VTIMEZONE
TZID:UTC
BEGIN:STANDARD
TZOFFSETFROM:+0000
TZOFFSETTO:+0000
TZNAME:UTC
DTSTART:20170101T000000
END:STANDARD
END:VTIMEZONE
BEGIN:VEVENT
DTSTART;TZID=UTC:20190514T183000
DTEND;TZID=UTC:20190514T200000
DTSTAMP:20260422T103230
CREATED:20190405T192353Z
LAST-MODIFIED:20190405T192353Z
UID:819-1557858600-1557864000@charlestonreikiandtarot.com
SUMMARY:Stress\, the Brain-Body Connection & Reiki
DESCRIPTION:Who Should Attend:  Medical Professionals with a Background in Reiki \nPurpose:  Increase Your Reiki Skills and Connect Reiki to Real-World Work \n6 Week Agenda: \n\nThe Causes of Stress\nThe Brain and Stress\nThe Body and Stress\nAddiction to Stress\nReiki and Stress\nMindfulness\nIncorporating Mindfulness into Reiki
URL:https://charlestonreikiandtarot.com/event/stress-the-brain-body-connection-reiki/
LOCATION:Charleston Holistic Center\, 2366 Ashley River Rd.\, CHARLESTON\, SC\, 29414\, United States
CATEGORIES:Class,Mindfulness,Reiki
ATTACH;FMTTYPE=image/jpeg:https://charlestonreikiandtarot.com/wp-content/uploads/2018/09/can904.jpg
END:VEVENT
BEGIN:VEVENT
DTSTART;TZID=UTC:20190511T100000
DTEND;TZID=UTC:20190511T110000
DTSTAMP:20260422T103230
CREATED:20190405T190511Z
LAST-MODIFIED:20190411T200907Z
UID:811-1557568800-1557572400@charlestonreikiandtarot.com
SUMMARY:Meditation Class
DESCRIPTION:Meditation:  It’s Much More Than Just Sitting & Not Thinking\nDiscussion:  Attention vs. Intention \nUnderstanding how to use these two tools of meditation to improve our ability to manifest our desired outcomes \n20-30 minute Heart-Centered Meditation
URL:https://charlestonreikiandtarot.com/event/meditation-class/
LOCATION:Charleston Holistic Center\, 2366 Ashley River Rd.\, CHARLESTON\, SC\, 29414\, United States
CATEGORIES:Class,Mindfulness
ATTACH;FMTTYPE=image/jpeg:https://charlestonreikiandtarot.com/wp-content/uploads/2019/03/heart-1648565_1920.jpg
END:VEVENT
BEGIN:VEVENT
DTSTART;TZID=UTC:20190427T100000
DTEND;TZID=UTC:20190427T110000
DTSTAMP:20260422T103230
CREATED:20190405T190808Z
LAST-MODIFIED:20190411T201513Z
UID:813-1556359200-1556362800@charlestonreikiandtarot.com
SUMMARY:Meditation Class
DESCRIPTION:Meditation:  It’s Much More Than Just Sitting & Not Thinking\nDiscussion:  Forward Focus\, Reaching the Quantum Field \nUsing our meditative practice to enter into the Quantum Field to be able to receive the new\, better\, and unexpected into your life. \n20-30 minute Heart-Centered Meditation
URL:https://charlestonreikiandtarot.com/event/meditation-class-2/
LOCATION:Charleston Holistic Center\, 2366 Ashley River Rd.\, CHARLESTON\, SC\, 29414\, United States
CATEGORIES:Class,Mindfulness
ATTACH;FMTTYPE=image/jpeg:https://charlestonreikiandtarot.com/wp-content/uploads/2018/07/bd051-1024x682.jpg
END:VEVENT
BEGIN:VEVENT
DTSTART;TZID=UTC:20190413T100000
DTEND;TZID=UTC:20190413T110000
DTSTAMP:20260422T103230
CREATED:20190411T202623Z
LAST-MODIFIED:20190411T202623Z
UID:828-1555149600-1555153200@charlestonreikiandtarot.com
SUMMARY:Tranfsormative Meditation Class
DESCRIPTION:Meditation:  It’s Much More Than Just Sitting & Not Thinking\nDiscussion:  Becoming the Intent.  Being the Cause of the Effect \nLearn how to cause the events in your life and not be at the mercy of random chance or other people causing events in their lives. \n20-30 minute Heart-Centered Meditation
URL:https://charlestonreikiandtarot.com/event/tranfsormative-meditation-class/
LOCATION:Charleston Holistic Center\, 2366 Ashley River Rd.\, CHARLESTON\, SC\, 29414\, United States
CATEGORIES:Class,Meditation,Mindfulness
ATTACH;FMTTYPE=image/jpeg:https://charlestonreikiandtarot.com/wp-content/uploads/2018/09/Meditation-pic-1.jpg
END:VEVENT
BEGIN:VEVENT
DTSTART;TZID=UTC:20180920T183000
DTEND;TZID=UTC:20180920T200000
DTSTAMP:20260422T103230
CREATED:20180804T211156Z
LAST-MODIFIED:20180804T211156Z
UID:316-1537468200-1537473600@charlestonreikiandtarot.com
SUMMARY:Introduction to the Art of the Tarot Class
DESCRIPTION:This is a 6 week\, in-depth class. Topics will include understanding the Major Arcana as the Fool’s Journey\, understanding each suit in context\, some of the numerology of the tarot\, using 1-card\, 3-card\, and Celtic Cross spreads\, plus a “decision spread.” You will learn how to interpret cards in context\, not just the “book” definition. \n  \nRegister Here
URL:https://charlestonreikiandtarot.com/event/introduction-to-the-art-of-the-tarot-class/
LOCATION:Charleston Holistic Center\, 2366 Ashley River Rd.\, CHARLESTON\, SC\, 29414\, United States
CATEGORIES:Class,Tarot
ATTACH;FMTTYPE=image/jpeg:https://charlestonreikiandtarot.com/wp-content/uploads/2018/07/webpict-300x225-1.jpg
END:VEVENT
BEGIN:VEVENT
DTSTART;TZID=UTC:20180919T183000
DTEND;TZID=UTC:20180919T200000
DTSTAMP:20260422T103230
CREATED:20180804T210955Z
LAST-MODIFIED:20180804T210955Z
UID:312-1537381800-1537387200@charlestonreikiandtarot.com
SUMMARY:Intro to Shamanic Journeying
DESCRIPTION:
URL:https://charlestonreikiandtarot.com/event/intro-to-shamanic-journeying/
LOCATION:Charleston Holistic Center\, 2366 Ashley River Rd.\, CHARLESTON\, SC\, 29414\, United States
CATEGORIES:Class,Shamanism
ATTACH;FMTTYPE=image/jpeg:https://charlestonreikiandtarot.com/wp-content/uploads/2018/07/20141025_200453396_iOS-scaled.jpg
END:VEVENT
BEGIN:VEVENT
DTSTART;TZID=UTC:20180916T110000
DTEND;TZID=UTC:20180916T170000
DTSTAMP:20260422T103230
CREATED:20180804T211301Z
LAST-MODIFIED:20180804T211500Z
UID:307-1537095600-1537117200@charlestonreikiandtarot.com
SUMMARY:Reiki II
DESCRIPTION:Learn the skills you need to practice Reiki at a higher level.  Reiki II is considered the “professional” level of Reiki.  In Reiki II you will learn the basic Reiki symbols and deepen your understanding of Reiki in general and how to utilize it in your life & for others.  A full manual\, attunement\, and light lunch is included. \nReserve your spot now
URL:https://charlestonreikiandtarot.com/event/reiki-ii/
LOCATION:Charleston Holistic Center\, 2366 Ashley River Rd.\, CHARLESTON\, SC\, 29414\, United States
CATEGORIES:Class,Reiki
ATTACH;FMTTYPE=image/jpeg:https://charlestonreikiandtarot.com/wp-content/uploads/2018/07/r1.jpg
END:VEVENT
BEGIN:VEVENT
DTSTART;TZID=UTC:20180819T110000
DTEND;TZID=UTC:20180819T170000
DTSTAMP:20260422T103230
CREATED:20180730T232317Z
LAST-MODIFIED:20180801T175652Z
UID:226-1534676400-1534698000@charlestonreikiandtarot.com
SUMMARY:Reiki I
DESCRIPTION:Full Reiki I Class:  Learn all you need to learn to practice on yourself\, friends\, family\, and pets \n\nBackground of Reiki\nWhat Reiki is\nChakras\nReiki information\nHand positions\nEthics and Legality\n\nFull Manual is provided along with a light lunch.
URL:https://charlestonreikiandtarot.com/event/reiki-i/
LOCATION:Charleston Holistic Center\, 2366 Ashley River Rd.\, CHARLESTON\, SC\, 29414\, United States
CATEGORIES:Class,Reiki
END:VEVENT
END:VCALENDAR